BEGIN:VCALENDAR
VERSION:2.0
PRODID:-//Anne Arundel County Literacy Council - ECPv6.15.20//NONSGML v1.0//EN
CALSCALE:GREGORIAN
METHOD:PUBLISH
X-WR-CALNAME:Anne Arundel County Literacy Council
X-ORIGINAL-URL:https://icanread.org
X-WR-CALDESC:Events for Anne Arundel County Literacy Council
REFRESH-INTERVAL;VALUE=DURATION:PT1H
X-Robots-Tag:noindex
X-PUBLISHED-TTL:PT1H
BEGIN:VTIMEZONE
TZID:America/New_York
BEGIN:DAYLIGHT
TZOFFSETFROM:-0500
TZOFFSETTO:-0400
TZNAME:EDT
DTSTART:20110313T070000
END:DAYLIGHT
BEGIN:STANDARD
TZOFFSETFROM:-0400
TZOFFSETTO:-0500
TZNAME:EST
DTSTART:20111106T060000
END:STANDARD
BEGIN:DAYLIGHT
TZOFFSETFROM:-0500
TZOFFSETTO:-0400
TZNAME:EDT
DTSTART:20120311T070000
END:DAYLIGHT
BEGIN:STANDARD
TZOFFSETFROM:-0400
TZOFFSETTO:-0500
TZNAME:EST
DTSTART:20121104T060000
END:STANDARD
BEGIN:DAYLIGHT
TZOFFSETFROM:-0500
TZOFFSETTO:-0400
TZNAME:EDT
DTSTART:20130310T070000
END:DAYLIGHT
BEGIN:STANDARD
TZOFFSETFROM:-0400
TZOFFSETTO:-0500
TZNAME:EST
DTSTART:20131103T060000
END:STANDARD
BEGIN:DAYLIGHT
TZOFFSETFROM:-0500
TZOFFSETTO:-0400
TZNAME:EDT
DTSTART:20140309T070000
END:DAYLIGHT
BEGIN:STANDARD
TZOFFSETFROM:-0400
TZOFFSETTO:-0500
TZNAME:EST
DTSTART:20141102T060000
END:STANDARD
END:VTIMEZONE
BEGIN:VEVENT
DTSTART;TZID=America/New_York:20130413T090000
DTEND;TZID=America/New_York:20130413T150000
DTSTAMP:20260419T093734
CREATED:20130413T150338Z
LAST-MODIFIED:20130502T150600Z
UID:961-1365843600-1365865200@icanread.org
SUMMARY:Annapolis Book Festival
DESCRIPTION:We have been invited to participate in the Annapolis Book Festival\, which will be held at the Key School campus on April 13th from 10 AM to 4 PM  Please plan on attending this fun family event. If interested in volunteering at our booth\, please emailprogramdirector@aaclc.org or call 410-269-4419 to sign up.  We would love your help!\nThe Key School 534 Hillsmere Dr. Annapolis\, MD 21403  410.263.9231 (click the “Key School” link for directions)
URL:https://icanread.org/event/annapolis-book-festival/
LOCATION:Key School Campus\, Annapolis
CATEGORIES:Community Event
END:VEVENT
BEGIN:VEVENT
DTSTART;TZID=America/New_York:20130410T180000
DTEND;TZID=America/New_York:20130410T194500
DTSTAMP:20260419T093734
CREATED:20130410T230000Z
LAST-MODIFIED:20130502T150007Z
UID:957-1365616800-1365623100@icanread.org
SUMMARY:April Board Meeting
DESCRIPTION:Wednesday\, April 10\, from 7 to 8:45pm at the Annapolis\, West St. Library
URL:https://icanread.org/event/april-board-meeting/
CATEGORIES:Board Meeting
END:VEVENT
BEGIN:VEVENT
DTSTART;TZID=America/New_York:20130410T180000
DTEND;TZID=America/New_York:20130410T194500
DTSTAMP:20260419T093734
CREATED:20130116T000946Z
LAST-MODIFIED:20130116T003720Z
UID:868-1365616800-1365623100@icanread.org
SUMMARY:Board Meeting
DESCRIPTION:
URL:https://icanread.org/event/board-meeting-7/
LOCATION:Annapolis West St. Library\, 1410 West St.\, Annapolis\, MD\, United States
CATEGORIES:Board Meeting
END:VEVENT
BEGIN:VEVENT
DTSTART;TZID=America/New_York:20130323T083000
DTEND;TZID=America/New_York:20130323T140000
DTSTAMP:20260419T093734
CREATED:20130112T221523Z
LAST-MODIFIED:20130112T222233Z
UID:842-1364027400-1364047200@icanread.org
SUMMARY:Tutor Training March 2013: Second of two sessions
DESCRIPTION:Second of two sessions\, the first being held on March 2\, 2013 \nOur tutor training is twelve hours in length and covers both Basic Literacy and ESL instruction.  Woods Memorial Presbyterian Church in Severna Park has graciously agreed to host our next tutor training on March 2nd and 23rd from 9:30 AM to 3:00 PM. \nWe have a class size limit of 35 so if you\, or someone you know\, would be interested in attending this training\, please email programdirector@aaclc.org or call 410-798-0408 as soon as possible to reserve a seat. \nAlso mark your calendar for a Follow-On session on April 20th\, from 10:00 to 11:30 AM.
URL:https://icanread.org/event/tutor-training-march-2013-2/
CATEGORIES:New Tutor Training,Training Event
END:VEVENT
BEGIN:VEVENT
DTSTART;TZID=America/New_York:20130313T180000
DTEND;TZID=America/New_York:20130313T194500
DTSTAMP:20260419T093734
CREATED:20130116T000716Z
LAST-MODIFIED:20130116T000716Z
UID:866-1363197600-1363203900@icanread.org
SUMMARY:Board Meeting
DESCRIPTION:
URL:https://icanread.org/event/board-meeting-6/
LOCATION:Eastport United Methodist Church\, Conf. Room\, 926 Bay Ridge Avenue\, Annapolis\, MD\, United States
CATEGORIES:Board Meeting
END:VEVENT
BEGIN:VEVENT
DTSTART;TZID=America/New_York:20130302T083000
DTEND;TZID=America/New_York:20130302T140000
DTSTAMP:20260419T093734
CREATED:20130112T221221Z
LAST-MODIFIED:20130112T221612Z
UID:839-1362213000-1362232800@icanread.org
SUMMARY:Tutor Training March 2013: First of two sessions
DESCRIPTION:First of two sessions\, the second one being March 23\, 2013 \nOur tutor training is twelve hours in length and covers both Basic Literacy and ESL instruction.  Woods Memorial Presbyterian Church in Severna Park has graciously agreed to host our next tutor training on March 2nd and 23rd from 9:30 AM to 3:00 PM. \nWe have a class size limit of 35 so if you\, or someone you know\, would be interested in attending this training\, please email programdirector@aaclc.org or call 410-798-0408 as soon as possible to reserve a seat. \nAlso mark your calendar for a Follow-On session on April 20th\, from 10:00 to 11:30 AM.
URL:https://icanread.org/event/tutor-training-1/
CATEGORIES:New Tutor Training,Training Event
END:VEVENT
BEGIN:VEVENT
DTSTART;TZID=America/New_York:20130206T180000
DTEND;TZID=America/New_York:20130206T194500
DTSTAMP:20260419T093734
CREATED:20130204T225217Z
LAST-MODIFIED:20130204T225431Z
UID:934-1360173600-1360179900@icanread.org
SUMMARY:Board Meeting at Eastport United Methodist Church\, 926 Bay Ridge Avenue Annapolis\, MD
DESCRIPTION:
URL:https://icanread.org/event/board-meeting-at-eastport-united-methodist-church-926-bay-ridge-avenue-annapolis-md/
END:VEVENT
BEGIN:VEVENT
DTSTART;TZID=America/New_York:20130206T180000
DTEND;TZID=America/New_York:20130206T194500
DTSTAMP:20260419T093734
CREATED:20130116T000247Z
LAST-MODIFIED:20130116T000247Z
UID:864-1360173600-1360179900@icanread.org
SUMMARY:Board Meeting
DESCRIPTION:
URL:https://icanread.org/event/board-meeting-5/
CATEGORIES:Board Meeting
END:VEVENT
BEGIN:VEVENT
DTSTART;TZID=America/New_York:20130110T180000
DTEND;TZID=America/New_York:20130110T194500
DTSTAMP:20260419T093734
CREATED:20121025T161009Z
LAST-MODIFIED:20121211T043225Z
UID:717-1357840800-1357847100@icanread.org
SUMMARY:Board Meeting\, January 2013
DESCRIPTION:We will be voting on updating our existing Bylaws which were created in 1995. You are cordially invited.
URL:https://icanread.org/event/717/
CATEGORIES:Board Meeting
ORGANIZER;CN="Lisa Vernon":MAILTO:director@aaclc.org
END:VEVENT
BEGIN:VEVENT
DTSTART;TZID=America/New_York:20121206T180000
DTEND;TZID=America/New_York:20121206T194500
DTSTAMP:20260419T093734
CREATED:20120813T014525Z
LAST-MODIFIED:20121211T004512Z
UID:380-1354816800-1354823100@icanread.org
SUMMARY:Board Meeting\, December 2012  Cancelled
DESCRIPTION:Meeting cancelled.
URL:https://icanread.org/event/board-meeting-4/
LOCATION:West County Library\, 1325 Annapolis Rd\, Odenton\, MD\, 21113\, United States
CATEGORIES:Board Meeting
END:VEVENT
BEGIN:VEVENT
DTSTART;TZID=America/New_York:20121108T180000
DTEND;TZID=America/New_York:20121108T194500
DTSTAMP:20260419T093734
CREATED:20120813T014352Z
LAST-MODIFIED:20121025T161257Z
UID:377-1352397600-1352403900@icanread.org
SUMMARY:Board Meeting\, November 2012
DESCRIPTION:We’ll meet in the Edgewater Library’s Small Room.
URL:https://icanread.org/event/board-meeting-3/
CATEGORIES:Board Meeting
END:VEVENT
BEGIN:VEVENT
DTSTART;TZID=America/New_York:20121103T120000
DTEND;TZID=America/New_York:20121103T133000
DTSTAMP:20260419T093734
CREATED:20120813T151948Z
LAST-MODIFIED:20120814T024004Z
UID:393-1351944000-1351949400@icanread.org
SUMMARY:Follow On Session
DESCRIPTION:Fall Tutor Support Session
URL:https://icanread.org/event/follow-on-session/
LOCATION:Edgewater Library\, 25 Stepneys Lane\, Edgewater\, Maryland\, 21037\, United States
CATEGORIES:New Tutor Training,Tutor Continuing Training
END:VEVENT
BEGIN:VEVENT
DTSTART;TZID=America/New_York:20121013T093000
DTEND;TZID=America/New_York:20121013T150000
DTSTAMP:20260419T093734
CREATED:20120813T012827Z
LAST-MODIFIED:20120813T151034Z
UID:362-1350120600-1350140400@icanread.org
SUMMARY:New Tutor Training
DESCRIPTION:We have a class size limit of 30\, and our March training filled up quickly! We plan on matching all 30 tutors with students immediately following training.
URL:https://icanread.org/event/new-tutor-training-2/
CATEGORIES:New Tutor Training
END:VEVENT
BEGIN:VEVENT
DTSTART;TZID=America/New_York:20121003T180000
DTEND;TZID=America/New_York:20121003T194500
DTSTAMP:20260419T093734
CREATED:20120813T014055Z
LAST-MODIFIED:20120814T023911Z
UID:373-1349287200-1349293500@icanread.org
SUMMARY:Board Meeting
DESCRIPTION:
URL:https://icanread.org/event/board-meeting-2/
CATEGORIES:Board Meeting
END:VEVENT
BEGIN:VEVENT
DTSTART;TZID=America/New_York:20120929T093000
DTEND;TZID=America/New_York:20120929T150000
DTSTAMP:20260419T093734
CREATED:20120813T012152Z
LAST-MODIFIED:20120814T023835Z
UID:359-1348911000-1348930800@icanread.org
SUMMARY:New Tutor Training
DESCRIPTION:We have a class size limit of 30\, and our March training filled up quickly! We plan on matching all 30 tutors with students immediately following training.
URL:https://icanread.org/event/new-tutor-training/
LOCATION:Woods Memorial Presbyterian Church\, 611 Baltimore Annapolis Blvd\, Severna Park\, MD\, 21146\, United States
CATEGORIES:New Tutor Training
END:VEVENT
BEGIN:VEVENT
DTSTART;TZID=America/New_York:20120915T120000
DTEND;TZID=America/New_York:20120915T160000
DTSTAMP:20260419T093734
CREATED:20120813T013427Z
LAST-MODIFIED:20120814T023806Z
UID:365-1347710400-1347724800@icanread.org
SUMMARY:AACLC Book Fair
DESCRIPTION:Celebrating National Literacy Week. Mention AACLC at the checkout counter\, and our Literacy Council will keep up to 15% of the profits from your purchase\, including\, books\, music\, toys and Cafe purchases. We will also have special events and prize drawings scheduled throughout the day.
URL:https://icanread.org/event/aaclc-book-fair/
LOCATION:Barnes & Noble\, 2516 Solomon’s Island Rd\, Annapolis\, 21401\, United States
CATEGORIES:Fundraising Event
ORGANIZER;CN="Stevie Donahue":MAILTO:Sd@wisedonahue.com
END:VEVENT
BEGIN:VEVENT
DTSTART;TZID=America/New_York:20120905T180000
DTEND;TZID=America/New_York:20120905T194500
DTSTAMP:20260419T093734
CREATED:20120813T013915Z
LAST-MODIFIED:20120827T190421Z
UID:370-1346868000-1346874300@icanread.org
SUMMARY:Board Meeting
DESCRIPTION:Quarterly strategy meeting with elections
URL:https://icanread.org/event/board-meeting/
LOCATION:Severna Park Branch Library\, 45 West McKinsey Road\, Severna Park\, MD\, 21146\, United States
CATEGORIES:Board Meeting
END:VEVENT
BEGIN:VEVENT
DTSTART;TZID=America/New_York:20120904T130000
DTEND;TZID=America/New_York:20120904T150000
DTSTAMP:20260419T093734
CREATED:20120827T190125Z
LAST-MODIFIED:20120827T193517Z
UID:550-1346763600-1346770800@icanread.org
SUMMARY:Assessor Training Class Sept. 4\, 2012
DESCRIPTION:Assessors are trained to give the Laubach Way to Reading (LWR) Diagnostic Inventory test to each new student.  The  purpose of the LWR Diagnostic Inventory is both to place students in the appropriate LWR skill book and to give the tutor a fairly detailed record of a student’s present reading skills.  By profiling a student’s strengths and weaknesses in reading\, the Diagnostic Inventory alerts a teacher to the skills that probably ought to receive special emphasis during lessons and to the skills that may only require relatively short periods of time for learning.\n\nOnce a volunteer completes our 12 hour tutor training\, they are eligible to take our Assessor training.
URL:https://icanread.org/event/assessor-training-9-4-2012/
CATEGORIES:Assessor Training
ORGANIZER;CN="Emily Joyce":MAILTO:ejoyce18@comcast.net
END:VEVENT
END:VCALENDAR